BEGIN:VCALENDAR
VERSION:2.0
PRODID:-//Plone.org//NONSGML plone.app.event//EN
X-WR-TIMEZONE:US/Pacific
BEGIN:VEVENT
SUMMARY:March GoHike  Pacing Hike: 2 to 4 miles\, 0 to 750 feet of elevati
 on gain - Bridle Trails State Park
DTSTART;VALUE=DATE:20260312
DTEND;VALUE=DATE:20260313
DTSTAMP;VALUE=DATE-TIME:20260423T055133Z
UID:251b73c5033b4956a3aeb93f537949ca
CATEGORIES:Day Hiking
DESCRIPTION:Bridle Trails is a popular urban forest between Bellevue and K
 irkland - a respite from city life!\n\nAs a GoHike Pace Hike\, we’ll enj
 oy a low-stress walk along the Coyote and Trillium Trails (~4 miles\, ~ 20
 0 feet of elevation gain\, 1.5–2 mph pace) to help you determine what fe
 els comfortable for you in terms of gear\, pace\, and distance—no stress
 \, no judgment.
LOCATION:Bridle Trails State Park
URL:https://www.mountaineers.org/locations-lodges/foothills-branch/committ
 ees/foothills-hiking-backpacking/foothills-hiking-committee/course-templat
 es/gohike-beginner-hiking-series-foothills/activities/march-gohike-pacing-
 hike-2-to-4-miles-0-to-750-feet-of-elevation-gain-bridle-trails-state-park
END:VEVENT
END:VCALENDAR
