BEGIN:VCALENDAR
VERSION:2.0
PRODID:-//Plone.org//NONSGML plone.app.event//EN
X-WR-TIMEZONE:US/Pacific
BEGIN:VEVENT
SUMMARY:June Hikes: 3.5 to 6 miles\, 400 to 1\,500 feet gain - Bridle Trai
 ls State Park
DTSTART;VALUE=DATE:20260627
DTEND;VALUE=DATE:20260628
DTSTAMP;VALUE=DATE-TIME:20260421T044411Z
UID:c293255c72b44f218646c6d312ee5413
CATEGORIES:Day Hiking
DESCRIPTION:This hike counts toward your monthly required GoHike course Ju
 ne trips.
LOCATION:Bridle Trails State Park
URL:https://www.mountaineers.org/locations-lodges/foothills-branch/committ
 ees/foothills-hiking-backpacking/foothills-hiking-committee/course-templat
 es/gohike-beginner-hiking-series-foothills/activities/june-hikes-3-5-to-6-
 miles-400-to-1-500-feet-gain-bridle-trails-state-park
END:VEVENT
END:VCALENDAR
