BEGIN:VCALENDAR
VERSION:2.0
PRODID:-//Plone.org//NONSGML plone.app.event//EN
X-WR-TIMEZONE:US/Pacific
BEGIN:VEVENT
SUMMARY:July Hikes: 3.75 to 6.5 miles\, 500 to 1\,750 feet gain - Lower So
 uth Fork Skokomish River
DTSTART;VALUE=DATE:20260718
DTEND;VALUE=DATE:20260719
DTSTAMP;VALUE=DATE-TIME:20260420T064639Z
UID:10964157c0c343eaa22c947967a0de33
CATEGORIES:Day Hiking
DESCRIPTION:This hike counts toward your monthly required GoHike course Ju
 ly trips.
LOCATION:Lower South Fork Skokomish River
URL:https://www.mountaineers.org/locations-lodges/foothills-branch/committ
 ees/foothills-hiking-backpacking/foothills-hiking-committee/course-templat
 es/gohike-beginner-hiking-series-foothills/activities/july-hikes-3-75-to-6
 -5-miles-500-to-1-750-feet-gain-lower-south-fork-skokomish-river
END:VEVENT
END:VCALENDAR
