BEGIN:VCALENDAR
VERSION:2.0
PRODID:-//Plone.org//NONSGML plone.app.event//EN
X-WR-TIMEZONE:US/Pacific
BEGIN:VEVENT
SUMMARY:July Hikes: 3.75 to 6.5 miles\, 500 to 1\,750 feet gain - Deceptio
 n Pass State Park
DTSTART;VALUE=DATE:20260717
DTEND;VALUE=DATE:20260718
DTSTAMP;VALUE=DATE-TIME:20260420T221524Z
UID:94b9ced2b787465c89cc8243564eef39
CATEGORIES:Day Hiking
DESCRIPTION:This hike counts toward your monthly required GoHike course Ju
 ly trips.
LOCATION:Deception Pass State Park
URL:https://www.mountaineers.org/locations-lodges/foothills-branch/committ
 ees/foothills-hiking-backpacking/foothills-hiking-committee/course-templat
 es/gohike-beginner-hiking-series-foothills/activities/july-hikes-3-75-to-6
 -5-miles-500-to-1-750-feet-gain-deception-pass-state-park
END:VEVENT
END:VCALENDAR
