BEGIN:VCALENDAR
VERSION:2.0
PRODID:-//Plone.org//NONSGML plone.app.event//EN
X-WR-TIMEZONE:US/Pacific
BEGIN:VEVENT
SUMMARY:August Hikes: 4 miles to 7 miles\, 600 to 2\,000 feet gain - Sunri
 se Ridge (Olympics)
DTSTART;VALUE=DATE:20260801
DTEND;VALUE=DATE:20260802
DTSTAMP;VALUE=DATE-TIME:20260420T064639Z
UID:7b80362969e843b28d8ec8ad3767c5af
CATEGORIES:Day Hiking
DESCRIPTION:This hike counts toward your monthly required GoHike course Au
 gust trips.
LOCATION:Sunrise Ridge (Olympics)
URL:https://www.mountaineers.org/locations-lodges/foothills-branch/committ
 ees/foothills-hiking-backpacking/foothills-hiking-committee/course-templat
 es/gohike-beginner-hiking-series-foothills/activities/august-hikes-4-miles
 -to-7-miles-600-to-2-000-feet-gain-sunrise-ridge-olympics
END:VEVENT
END:VCALENDAR
