BEGIN:VCALENDAR
VERSION:2.0
PRODID:-//Plone.org//NONSGML plone.app.event//EN
X-WR-TIMEZONE:US/Pacific
BEGIN:VEVENT
SUMMARY:August Hikes: 4 miles to 7 miles\, 600 to 2\,000 feet gain - Snow 
 Lake
DTSTART;VALUE=DATE:20260806
DTEND;VALUE=DATE:20260807
DTSTAMP;VALUE=DATE-TIME:20260421T044319Z
UID:c8da17f93d5f4b90aa08f311fa2df5f3
CATEGORIES:Day Hiking
DESCRIPTION:This hike counts toward your monthly required GoHike course Au
 gust trips.
LOCATION:Snow Lake
URL:https://www.mountaineers.org/locations-lodges/foothills-branch/committ
 ees/foothills-hiking-backpacking/foothills-hiking-committee/course-templat
 es/gohike-beginner-hiking-series-foothills/activities/august-hikes-4-miles
 -to-7-miles-600-to-2-000-feet-gain-snow-lake
END:VEVENT
END:VCALENDAR
