BEGIN:VCALENDAR
VERSION:2.0
PRODID:-//Plone.org//NONSGML plone.app.event//EN
X-WR-TIMEZONE:US/Pacific
BEGIN:VEVENT
SUMMARY:August Hikes: 4 miles to 7 miles\, 600 to 2\,000 feet gain - Goat 
 Lake (Monte Cristo)
DTSTART;VALUE=DATE:20260805
DTEND;VALUE=DATE:20260806
DTSTAMP;VALUE=DATE-TIME:20260420T221530Z
UID:6c0f73c6aab44b3da6c03c79a2e7850d
CATEGORIES:Day Hiking
DESCRIPTION:This hike counts toward your monthly required GoHike course Au
 gust trips.
LOCATION:Goat Lake (Monte Cristo)
URL:https://www.mountaineers.org/locations-lodges/foothills-branch/committ
 ees/foothills-hiking-backpacking/foothills-hiking-committee/course-templat
 es/gohike-beginner-hiking-series-foothills/activities/august-hikes-4-miles
 -to-7-miles-600-to-2-000-feet-gain-goat-lake-monte-cristo
END:VEVENT
END:VCALENDAR
