BEGIN:VCALENDAR
VERSION:2.0
PRODID:-//Plone.org//NONSGML plone.app.event//EN
X-WR-TIMEZONE:US/Pacific
BEGIN:VEVENT
SUMMARY:August GoHike Urban Walk:  4 miles to 7 miles\, 600 to 2\,000 feet
  gain - Cheshiahud Lake Union Loop
DTSTART;VALUE=DATE:20260807
DTEND;VALUE=DATE:20260808
DTSTAMP;VALUE=DATE-TIME:20260420T221530Z
UID:5b4a449009af444182bd06944f1a10ed
CATEGORIES:Urban Walking
DESCRIPTION:This urban walk counts toward your monthly required GoHike cou
 rse August trips.
LOCATION:Cheshiahud Lake Union Loop
URL:https://www.mountaineers.org/locations-lodges/foothills-branch/committ
 ees/foothills-hiking-backpacking/foothills-hiking-committee/course-templat
 es/gohike-beginner-hiking-series-foothills/activities/august-gohike-urban-
 walk-4-miles-to-7-miles-600-to-2-000-feet-gain-cheshiahud-lake-union-loop
END:VEVENT
END:VCALENDAR
