BEGIN:VCALENDAR
VERSION:2.0
PRODID:-//Plone.org//NONSGML plone.app.event//EN
X-WR-TIMEZONE:US/Pacific
BEGIN:VEVENT
SUMMARY:April Hikes:  2.5  - 5 miles\, 250 - 1\,000 feet gain - Wallace Fa
 lls
DTSTART;VALUE=DATE:20260401
DTEND;VALUE=DATE:20260402
DTSTAMP;VALUE=DATE-TIME:20260422T182120Z
UID:3ae7d2499fca44e198092e5e6e194d4d
CATEGORIES:Day Hiking
DESCRIPTION:This hike counts toward your monthly required GoHike course Ap
 ril trips.
LOCATION:Wallace Falls
URL:https://www.mountaineers.org/locations-lodges/foothills-branch/committ
 ees/foothills-hiking-backpacking/foothills-hiking-committee/course-templat
 es/gohike-beginner-hiking-series-foothills/activities/april-hikes-2-5-5-mi
 les-250-1-000-feet-gain-wallace-falls
END:VEVENT
END:VCALENDAR
