BEGIN:VCALENDAR
VERSION:2.0
PRODID:-//Plone.org//NONSGML plone.app.event//EN
X-WR-TIMEZONE:US/Pacific
BEGIN:VEVENT
SUMMARY:River Crossing Clinic for Backpackers - Middle Fork Snoqualmie Riv
 er
DTSTART;VALUE=DATE:20260624
DTEND;VALUE=DATE:20260625
DTSTAMP;VALUE=DATE-TIME:20260420T215248Z
UID:0ef5087df7f6435697c5083cdf3cf72f
CATEGORIES:Backpacking
DESCRIPTION:Sharpen your river crossing skills at a local waterway. We'll 
 review assessment strategies\, discuss common mistakes\, rehearse crossing
  techniques on the shoreline\, and then get our feet (and legs) wet to pra
 ctice what we've learned.  Afternoon session: 5pm-8pm.
LOCATION:Middle Fork Snoqualmie River
URL:https://www.mountaineers.org/locations-lodges/foothills-branch/committ
 ees/foothills-hiking-backpacking/foothills-backpacking-committee/seminars-
 clinics/river-crossing-clinic-for-backpackers-middle-fork-snoqualmie-river
 -3
END:VEVENT
END:VCALENDAR
