BEGIN:VCALENDAR
VERSION:2.0
PRODID:-//Plone.org//NONSGML plone.app.event//EN
X-WR-TIMEZONE:US/Pacific
BEGIN:VEVENT
SUMMARY:River Crossing Clinic for Backpackers - Middle Fork Snoqualmie Riv
 er
DTSTART;VALUE=DATE:20260620
DTEND;VALUE=DATE:20260621
DTSTAMP;VALUE=DATE-TIME:20260420T215248Z
UID:0d51dc45ccc44463ae4adb206ee0c17f
CATEGORIES:Backpacking
DESCRIPTION:Sharpen your river crossing skills at a local waterway. We'll 
 review assessment strategies\, discuss common mistakes\, rehearse crossing
  techniques on the shoreline\, and then get our feet (and legs) wet to pra
 ctice what we've learned.  Morning session: 8am-11am.
LOCATION:Middle Fork Snoqualmie River
URL:https://www.mountaineers.org/locations-lodges/foothills-branch/committ
 ees/foothills-hiking-backpacking/foothills-backpacking-committee/seminars-
 clinics/river-crossing-clinic-for-backpackers-middle-fork-snoqualmie-river
 -2
END:VEVENT
END:VCALENDAR
