BEGIN:VCALENDAR
VERSION:2.0
PRODID:-//Plone.org//NONSGML plone.app.event//EN
X-WR-TIMEZONE:US/Pacific
BEGIN:VEVENT
SUMMARY:Lightweight Backpack Food Planning and Preparation - Online Semina
 r - Gibson Hall\, Issaquah Kiwanis Club
DTSTART;VALUE=DATE:20180612
DTEND;VALUE=DATE:20180613
DTSTAMP;VALUE=DATE-TIME:20260419T175014Z
UID:677b26c57e82401fb2767dbfc18bd825
CATEGORIES:Backpacking
DESCRIPTION:Expand your ability to eat well and maintain your energy on th
 e trail\, with minimum cost\, weight\, cooking time and cleanup
LOCATION:Gibson Hall\, Issaquah Kiwanis Club
URL:https://www.mountaineers.org/locations-lodges/foothills-branch/committ
 ees/foothills-hiking-backpacking/foothills-backpacking-committee/seminars-
 clinics/lightweight-backpack-food-planning-and-preparation-gibson-hall-iss
 aquah-kiwanis-club
END:VEVENT
END:VCALENDAR
