BEGIN:VCALENDAR
VERSION:2.0
PRODID:-//Plone.org//NONSGML plone.app.event//EN
X-WR-TIMEZONE:US/Pacific
BEGIN:VEVENT
SUMMARY:Family Backpack - Greenwater Lakes
DTSTART;VALUE=DATE:20220807
DTEND;VALUE=DATE:20220808
DTSTAMP;VALUE=DATE-TIME:20260424T102527Z
UID:bcd61ce97c3440bfb26a5b88067a367e
CATEGORIES:Backpacking
DESCRIPTION:This two night easy backpack to just above the Greenwater Lake
 s makes for a nice base camp for middle day trips to Lost or Echo Lakes or
  just fishing or swimming in the Greenwater Lakes.  The weekday timing all
 ows for some more solitude.
LOCATION:Greenwater Lakes
URL:https://www.mountaineers.org/locations-lodges/foothills-branch/committ
 ees/foothills-hiking-backpacking/foothills-backpacking-committee/course-te
 mplates/backpacking-foothills/activities/overnight-backpack-field-trip-gre
 enwater-lakes
END:VEVENT
END:VCALENDAR
