BEGIN:VCALENDAR
VERSION:2.0
PRODID:-//Plone.org//NONSGML plone.app.event//EN
X-WR-TIMEZONE:US/Pacific
BEGIN:VEVENT
SUMMARY:Backpacking Building Blocks Student-Only Backpack - Snowgrass Flat
  & Goat Lake Basin
DTSTART;VALUE=DATE:20260815
DTEND;VALUE=DATE:20260816
DTSTAMP;VALUE=DATE-TIME:20260424T114550Z
UID:a8dceee2519f41a68795e09799ec4533
CATEGORIES:Backpacking
DESCRIPTION:A hike through meadows\, rocky alpine trails to camp on an alp
 ine lake at the Goat Rocks Wilderness. Hopefully we'll even get to see mar
 mots! Preference will be given to Luis&Karla's mentor group until April 15
LOCATION:Snowgrass Flat & Goat Lake Basin
URL:https://www.mountaineers.org/locations-lodges/foothills-branch/committ
 ees/foothills-hiking-backpacking/foothills-backpacking-committee/course-te
 mplates/backpacking-building-blocks-b3-course/activities/backpacking-build
 ing-blocks-student-only-backpack-snowgrass-flat-goat-lake-basin-2
END:VEVENT
END:VCALENDAR
