BEGIN:VCALENDAR
VERSION:2.0
PRODID:-//Plone.org//NONSGML plone.app.event//EN
X-WR-TIMEZONE:US/Pacific
BEGIN:VEVENT
SUMMARY:WFA Scenarios - Lake Desire Community Clubhouse
DTSTART;VALUE=DATE:20160509
DTEND;VALUE=DATE:20160510
DTSTAMP;VALUE=DATE-TIME:20260420T234439Z
UID:7e76b91ebd304db59d55f62d8a34cb14
CATEGORIES:First Aid
DESCRIPTION:WFA Scenario
LOCATION:Lake Desire Community Clubhouse
URL:https://www.mountaineers.org/locations-lodges/foothills-branch/committ
 ees/foothills-first-aid-committee/course-templates/wilderness-first-aid-wf
 a-foothills/activities/wfa-scenarios-lake-desire-community-clubhouse
END:VEVENT
END:VCALENDAR
