BEGIN:VCALENDAR
VERSION:2.0
PRODID:-//Plone.org//NONSGML plone.app.event//EN
X-WR-TIMEZONE:US/Pacific
BEGIN:VEVENT
SUMMARY:Basic Instructor Review - Mountaineers Seattle Program Center
DTSTART;VALUE=DATE:20260519
DTEND;VALUE=DATE:20260520
DTSTAMP;VALUE=DATE-TIME:20260420T064345Z
UID:9df0320b3f1143f28891d850e8b8212b
CATEGORIES:Climbing
DESCRIPTION:Instructor review of crevasse rescue techniques we will be tea
 ching Foothills Basic students. If weather is nice\, we will do it on one 
 of the parks on the Eastside.
LOCATION:Mountaineers Seattle Program Center
URL:https://www.mountaineers.org/locations-lodges/foothills-branch/committ
 ees/foothills-climbing-committee/seminars-clinics/basic-instructor-review-
 mountaineers-seattle-program-center-11
END:VEVENT
END:VCALENDAR
