BEGIN:VCALENDAR
VERSION:2.0
PRODID:-//Plone.org//NONSGML plone.app.event//EN
X-WR-TIMEZONE:US/Pacific
BEGIN:VEVENT
SUMMARY:Introduction to Winter Trail Running: Snowshoe Running - Ascent Ou
 tdoors\, Redmond
DTSTART;VALUE=DATE:20181213
DTEND;VALUE=DATE:20181214
DTSTAMP;VALUE=DATE-TIME:20260420T082401Z
UID:f2740619df274ea18bb80e7c6eacf545
CATEGORIES:Trail Running
DESCRIPTION:Learn how to get started with winter trail running: we'll talk
  lights\, gear\, clothing\, and traction devices.
LOCATION:Ascent Outdoors\, Redmond
URL:https://www.mountaineers.org/locations-lodges/foothills-branch/committ
 ees/foothills-branch-trail-running-committee/seminars-clinics/introduction
 -to-winter-trail-running-snow-ascent-outdoors-redmond-1
END:VEVENT
END:VCALENDAR
