BEGIN:VCALENDAR
VERSION:2.0
PRODID:-//Plone.org//NONSGML plone.app.event//EN
X-WR-TIMEZONE:US/Pacific
BEGIN:VEVENT
SUMMARY:Introduction to Trail Running Racing - Tradition Plateau
DTSTART;VALUE=DATE:20260505
DTEND;VALUE=DATE:20260506
DTSTAMP;VALUE=DATE-TIME:20260420T222124Z
UID:e3a06907af4c4969a004a7c777689f53
CATEGORIES:Trail Running
DESCRIPTION:Practice trail running skills and build your milage base at a 
 local frontcountry trail.
LOCATION:Tradition Plateau
URL:https://www.mountaineers.org/locations-lodges/foothills-branch/committ
 ees/foothills-branch-trail-running-committee/course-templates/introduction
 -to-trail-running-racing-foothills/activities/introduction-to-trail-runnin
 g-racing-tradition-plateau
END:VEVENT
END:VCALENDAR
