BEGIN:VCALENDAR
VERSION:2.0
PRODID:-//Plone.org//NONSGML plone.app.event//EN
X-WR-TIMEZONE:US/Pacific
BEGIN:VEVENT
SUMMARY:Introduction to Trail Running Racing - Tiger Mountain Lowlands
DTSTART;VALUE=DATE:20240409
DTEND;VALUE=DATE:20240410
DTSTAMP;VALUE=DATE-TIME:20260422T124251Z
UID:6c2777558c8444e6828325e26f235c8e
CATEGORIES:Trail Running
DESCRIPTION:Practice trail running skills and build your milage base at a 
 local frontcountry trail.
LOCATION:Tiger Mountain Lowlands
URL:https://www.mountaineers.org/locations-lodges/foothills-branch/committ
 ees/foothills-branch-trail-running-committee/course-templates/introduction
 -to-trail-running-racing-foothills/activities/introduction-to-trail-runnin
 g-racing-tiger-mountain-lowlands
END:VEVENT
END:VCALENDAR
