BEGIN:VCALENDAR
VERSION:2.0
PRODID:-//Plone.org//NONSGML plone.app.event//EN
X-WR-TIMEZONE:US/Pacific
BEGIN:VEVENT
SUMMARY:Introduction to Trail Running Racing - Taylor River
DTSTART;VALUE=DATE:20260614
DTEND;VALUE=DATE:20260615
DTSTAMP;VALUE=DATE-TIME:20260420T221330Z
UID:3af7ab53d29843d8b4b8466b15f52263
CATEGORIES:Trail Running
DESCRIPTION:Practice trail running skills and build your milage base at a 
 local frontcountry trail.
LOCATION:Taylor River
URL:https://www.mountaineers.org/locations-lodges/foothills-branch/committ
 ees/foothills-branch-trail-running-committee/course-templates/introduction
 -to-trail-running-racing-foothills/activities/introduction-to-trail-runnin
 g-racing-taylor-river-2
END:VEVENT
END:VCALENDAR
