BEGIN:VCALENDAR
VERSION:2.0
PRODID:-//Plone.org//NONSGML plone.app.event//EN
X-WR-TIMEZONE:US/Pacific
BEGIN:VEVENT
SUMMARY:Introduction to Trail Running Racing - Ira Spring Trail
DTSTART;VALUE=DATE:20260623
DTEND;VALUE=DATE:20260624
DTSTAMP;VALUE=DATE-TIME:20260420T221330Z
UID:8c39006fc34f4ed9bcd9fa700cf43b8e
CATEGORIES:Trail Running
DESCRIPTION:Bonus sunset views of Mt Rainier!
LOCATION:Ira Spring Trail
URL:https://www.mountaineers.org/locations-lodges/foothills-branch/committ
 ees/foothills-branch-trail-running-committee/course-templates/introduction
 -to-trail-running-racing-foothills/activities/introduction-to-trail-runnin
 g-racing-ira-spring-trail
END:VEVENT
END:VCALENDAR
