BEGIN:VCALENDAR
VERSION:2.0
PRODID:-//Plone.org//NONSGML plone.app.event//EN
X-WR-TIMEZONE:US/Pacific
BEGIN:VEVENT
SUMMARY:Introduction to Trail Running Racing - Granite Creek Trail
DTSTART;VALUE=DATE:20260523
DTEND;VALUE=DATE:20260524
DTSTAMP;VALUE=DATE-TIME:20260420T221401Z
UID:d68b1ca4d57f44da8e9ceadd19af1d16
CATEGORIES:Trail Running
DESCRIPTION:Practice trail running skills and build your milage base at a 
 local frontcountry trail.
LOCATION:Granite Creek Trail
URL:https://www.mountaineers.org/locations-lodges/foothills-branch/committ
 ees/foothills-branch-trail-running-committee/course-templates/introduction
 -to-trail-running-racing-foothills/activities/introduction-to-trail-runnin
 g-racing-granite-creek-trail-2
END:VEVENT
END:VCALENDAR
