BEGIN:VCALENDAR
VERSION:2.0
PRODID:-//Plone.org//NONSGML plone.app.event//EN
X-WR-TIMEZONE:US/Pacific
BEGIN:VEVENT
SUMMARY:Introduction to Trail Running Racing - Cougar Mountain: Big Tree R
 idge Trailhead
DTSTART;VALUE=DATE:20260616
DTEND;VALUE=DATE:20260617
DTSTAMP;VALUE=DATE-TIME:20260420T221401Z
UID:3612c566d70d475d9abd359bab7e430d
CATEGORIES:Trail Running
DESCRIPTION:Practice trail running skills and build your milage base at a 
 local frontcountry trail.
LOCATION:Cougar Mountain: Big Tree Ridge Trailhead
URL:https://www.mountaineers.org/locations-lodges/foothills-branch/committ
 ees/foothills-branch-trail-running-committee/course-templates/introduction
 -to-trail-running-racing-foothills/activities/introduction-to-trail-runnin
 g-racing-cougar-mountain-big-tree-ridge-trailhead
END:VEVENT
END:VCALENDAR
