BEGIN:VCALENDAR
VERSION:2.0
PRODID:-//Plone.org//NONSGML plone.app.event//EN
X-WR-TIMEZONE:US/Pacific
BEGIN:VEVENT
SUMMARY:Intro to Trail Running: Frontcountry - Uphill and Downhill Running
  - Tiger Mountain Lowlands
DTSTART;VALUE=DATE:20240507
DTEND;VALUE=DATE:20240508
DTSTAMP;VALUE=DATE-TIME:20260423T013104Z
UID:6f637c7c6ea04d6bb44d543aea55dda3
CATEGORIES:Trail Running
DESCRIPTION:This field trip will focus on uphill and downhill running.
LOCATION:Tiger Mountain Lowlands
URL:https://www.mountaineers.org/locations-lodges/foothills-branch/committ
 ees/foothills-branch-trail-running-committee/course-templates/introduction
 -to-trail-running-frontcountry-foothills/activities/uphill-and-downhill-ru
 nning-tiger-mountain-lowlands-1
END:VEVENT
END:VCALENDAR
