BEGIN:VCALENDAR
VERSION:2.0
PRODID:-//Plone.org//NONSGML plone.app.event//EN
X-WR-TIMEZONE:US/Pacific
BEGIN:VEVENT
SUMMARY:Intro to Trail Running: Frontcountry - Uphill and Downhill Running
  - Coal Creek Falls Loop
DTSTART;VALUE=DATE:20240509
DTEND;VALUE=DATE:20240510
DTSTAMP;VALUE=DATE-TIME:20260421T011419Z
UID:e628b4a87ba9431d90ba01f47b0bc13d
CATEGORIES:Trail Running
DESCRIPTION:We will be running favorite route of mine that I call the Coug
 ar Tour de Falls.  This field trip will focus on uphill and downhill runni
 ng.
LOCATION:Coal Creek Falls Loop
URL:https://www.mountaineers.org/locations-lodges/foothills-branch/committ
 ees/foothills-branch-trail-running-committee/course-templates/introduction
 -to-trail-running-frontcountry-foothills/activities/uphill-and-downhill-ru
 nning-coal-creek-falls-loop
END:VEVENT
END:VCALENDAR
