BEGIN:VCALENDAR
VERSION:2.0
PRODID:-//Plone.org//NONSGML plone.app.event//EN
X-WR-TIMEZONE:US/Pacific
BEGIN:VEVENT
SUMMARY:Intro to Trail Running: Frontcountry - Uphill and Downhill Running
  - Carkeek Park
DTSTART;VALUE=DATE:20240516
DTEND;VALUE=DATE:20240517
DTSTAMP;VALUE=DATE-TIME:20260421T011644Z
UID:fb63cd4c0c7f47109fcdd4a97cec1a10
CATEGORIES:Trail Running
DESCRIPTION:This field trip will focus on uphill and downhill running.
LOCATION:Carkeek Park
URL:https://www.mountaineers.org/locations-lodges/foothills-branch/committ
 ees/foothills-branch-trail-running-committee/course-templates/introduction
 -to-trail-running-frontcountry-foothills/activities/uphill-and-downhill-ru
 nning-carkeek-park
END:VEVENT
END:VCALENDAR
