BEGIN:VCALENDAR
VERSION:2.0
PRODID:-//Plone.org//NONSGML plone.app.event//EN
X-WR-TIMEZONE:US/Pacific
BEGIN:VEVENT
SUMMARY:Intro to Trail Running: Frontcountry - Trail and Group Etiquette -
  Squak Mountain: Bullitt Fireplace Access
DTSTART;VALUE=DATE:20240414
DTEND;VALUE=DATE:20240415
DTSTAMP;VALUE=DATE-TIME:20260421T011602Z
UID:b4ba6edffc8546eaafbd9e618d4b5733
CATEGORIES:Trail Running
DESCRIPTION:This field trip will focus on trail and group etiquette for tr
 ail running.
LOCATION:Squak Mountain: Bullitt Fireplace Access
URL:https://www.mountaineers.org/locations-lodges/foothills-branch/committ
 ees/foothills-branch-trail-running-committee/course-templates/introduction
 -to-trail-running-frontcountry-foothills/activities/trail-and-group-etique
 tte-squak-mountain-bullitt-fireplace-access
END:VEVENT
END:VCALENDAR
