BEGIN:VCALENDAR
VERSION:2.0
PRODID:-//Plone.org//NONSGML plone.app.event//EN
X-WR-TIMEZONE:US/Pacific
BEGIN:VEVENT
SUMMARY:Intro to Trail Running: Frontcountry - Trail and Group Etiquette -
  Redmond Watershed Preserve
DTSTART;VALUE=DATE:20240415
DTEND;VALUE=DATE:20240416
DTSTAMP;VALUE=DATE-TIME:20260423T012926Z
UID:4101a79356b241429bce6552861f2060
CATEGORIES:Trail Running
DESCRIPTION:This field trip will focus on trail and group etiquette for tr
 ail running.
LOCATION:Redmond Watershed Preserve
URL:https://www.mountaineers.org/locations-lodges/foothills-branch/committ
 ees/foothills-branch-trail-running-committee/course-templates/introduction
 -to-trail-running-frontcountry-foothills/activities/trail-and-group-etique
 tte-redmond-watershed-preserve
END:VEVENT
END:VCALENDAR
