BEGIN:VCALENDAR
VERSION:2.0
PRODID:-//Plone.org//NONSGML plone.app.event//EN
X-WR-TIMEZONE:US/Pacific
BEGIN:VEVENT
SUMMARY:Intro to Trail Running: Frontcountry - Trail and Group Etiquette -
  Redmond Watershed Preserve
DTSTART;VALUE=DATE:20240421
DTEND;VALUE=DATE:20240422
DTSTAMP;VALUE=DATE-TIME:20260421T020442Z
UID:f5602ae56f3542c2b2841ca364407670
CATEGORIES:Trail Running
DESCRIPTION:This field trip will focus on trail and group etiquette for tr
 ail running.
LOCATION:Redmond Watershed Preserve
URL:https://www.mountaineers.org/locations-lodges/foothills-branch/committ
 ees/foothills-branch-trail-running-committee/course-templates/introduction
 -to-trail-running-frontcountry-foothills/activities/trail-and-group-etique
 tte-redmond-watershed-preserve-1
END:VEVENT
END:VCALENDAR
