BEGIN:VCALENDAR
VERSION:2.0
PRODID:-//Plone.org//NONSGML plone.app.event//EN
X-WR-TIMEZONE:US/Pacific
BEGIN:VEVENT
SUMMARY:Intro to Trail Running: Frontcountry - Trail and Group Etiquette -
  Bridle Trails State Park
DTSTART;VALUE=DATE:20240417
DTEND;VALUE=DATE:20240418
DTSTAMP;VALUE=DATE-TIME:20260421T011605Z
UID:5d8363b0a744499eb2f53fc563bbe5b6
CATEGORIES:Trail Running
DESCRIPTION:This field trip will focus on trail and group etiquette for tr
 ail running.
LOCATION:Bridle Trails State Park
URL:https://www.mountaineers.org/locations-lodges/foothills-branch/committ
 ees/foothills-branch-trail-running-committee/course-templates/introduction
 -to-trail-running-frontcountry-foothills/activities/trail-and-group-etique
 tte-bridle-trails-state-park
END:VEVENT
END:VCALENDAR
