BEGIN:VCALENDAR
VERSION:2.0
PRODID:-//Plone.org//NONSGML plone.app.event//EN
X-WR-TIMEZONE:US/Pacific
BEGIN:VEVENT
SUMMARY:Intro to Trail Running: Frontcountry - Running on Technical Terrai
 n - Poo Poo Point via Chirico Trail
DTSTART;VALUE=DATE:20240605
DTEND;VALUE=DATE:20240606
DTSTAMP;VALUE=DATE-TIME:20260421T011541Z
UID:2f91ce54c05c470abbd1b6c1e318c084
CATEGORIES:Trail Running
DESCRIPTION:This ***MORNING*** field trip will focus on running skills for
  technical terrain - Running on trails with rocks\, roots\, mud\, creeks\,
  etc.
LOCATION:Poo Poo Point via Chirico Trail
URL:https://www.mountaineers.org/locations-lodges/foothills-branch/committ
 ees/foothills-branch-trail-running-committee/course-templates/introduction
 -to-trail-running-frontcountry-foothills/activities/running-on-technical-t
 errain-poo-poo-point-via-chirico-trail-1
END:VEVENT
END:VCALENDAR
