BEGIN:VCALENDAR
VERSION:2.0
PRODID:-//Plone.org//NONSGML plone.app.event//EN
X-WR-TIMEZONE:US/Pacific
BEGIN:VEVENT
SUMMARY:Intro to Trail Running: Frontcountry - Running on Technical Terrai
 n - Cougar Mountain: Sky Country Trailhead
DTSTART;VALUE=DATE:20240602
DTEND;VALUE=DATE:20240603
DTSTAMP;VALUE=DATE-TIME:20260421T011605Z
UID:8f34c5ca12f44762a1bb1a3e6d33dadc
CATEGORIES:Trail Running
DESCRIPTION:This field trip will focus on running skills for technical ter
 rain - Running on trails with rocks\, roots\, mud\, creeks\, etc.
LOCATION:Cougar Mountain: Sky Country Trailhead
URL:https://www.mountaineers.org/locations-lodges/foothills-branch/committ
 ees/foothills-branch-trail-running-committee/course-templates/introduction
 -to-trail-running-frontcountry-foothills/activities/running-on-technical-t
 errain-cougar-mountain-sky-country-trailhead
END:VEVENT
END:VCALENDAR
