BEGIN:VCALENDAR
VERSION:2.0
PRODID:-//Plone.org//NONSGML plone.app.event//EN
X-WR-TIMEZONE:US/Pacific
BEGIN:VEVENT
SUMMARY:Intro to Trail Running: Frontcountry - Online Session - Online Cla
 ssroom
DTSTART;VALUE=DATE:20240408
DTEND;VALUE=DATE:20240409
DTSTAMP;VALUE=DATE-TIME:20260421T014856Z
UID:35dd0cb6af78475a96d0e0e616684082
CATEGORIES:Trail Running
DESCRIPTION:Online classroom session where we will discuss course overview
 \, trail running gear\, basic frontcountry trail navigation\, basic trail 
 running techniques and etiquette\, hydration and nutrition basics\, and tr
 ail running safety.
LOCATION:Online Classroom
URL:https://www.mountaineers.org/locations-lodges/foothills-branch/committ
 ees/foothills-branch-trail-running-committee/course-templates/introduction
 -to-trail-running-frontcountry-foothills/activities/online-session-online-
 classroom
END:VEVENT
END:VCALENDAR
