BEGIN:VCALENDAR
VERSION:2.0
PRODID:-//Plone.org//NONSGML plone.app.event//EN
X-WR-TIMEZONE:US/Pacific
BEGIN:VEVENT
SUMMARY:Intro to Frontcountry Trail Running - Tiger Mountain Lowlands
DTSTART;VALUE=DATE:20180524
DTEND;VALUE=DATE:20180525
DTSTAMP;VALUE=DATE-TIME:20260420T234439Z
UID:7bc4f9e2fef04aab8662cfd911964b2c
CATEGORIES:Trail Running
DESCRIPTION:Learn how to get started with trail running on local frontcoun
 try trails.
LOCATION:Tiger Mountain Lowlands
URL:https://www.mountaineers.org/locations-lodges/foothills-branch/committ
 ees/foothills-branch-trail-running-committee/course-templates/introduction
 -to-trail-running-frontcountry-foothills/activities/intro-trail-run-field-
 trip-tiger-mountain-lowlands
END:VEVENT
END:VCALENDAR
