BEGIN:VCALENDAR
VERSION:2.0
PRODID:-//Plone.org//NONSGML plone.app.event//EN
X-WR-TIMEZONE:US/Pacific
BEGIN:VEVENT
SUMMARY:Intro to Trail Running: Frontcountry - Uphill and Downhill Running
  - East Sunset Way Trailhead
DTSTART;VALUE=DATE:20250507
DTEND;VALUE=DATE:20250508
DTSTAMP;VALUE=DATE-TIME:20260423T013215Z
UID:ad828003b70b44d7a2496f344276349f
CATEGORIES:Trail Running
DESCRIPTION:This field trip will focus on uphill and downhill running.
LOCATION:East Sunset Way Trailhead
URL:https://www.mountaineers.org/locations-lodges/foothills-branch/committ
 ees/foothills-branch-trail-running-committee/course-templates/introduction
 -to-trail-running-frontcountry-foothills/activities/intro-to-trail-running
 -frontcountry-uphill-and-downhill-running-east-sunset-way-trailhead
END:VEVENT
END:VCALENDAR
