BEGIN:VCALENDAR
VERSION:2.0
PRODID:-//Plone.org//NONSGML plone.app.event//EN
X-WR-TIMEZONE:US/Pacific
BEGIN:VEVENT
SUMMARY:Intro to Trail Running: Frontcountry - Uphill and Downhill Running
  - Cougar Mountain: Sky Country Trailhead
DTSTART;VALUE=DATE:20260507
DTEND;VALUE=DATE:20260508
DTSTAMP;VALUE=DATE-TIME:20260420T221530Z
UID:59a383e6f88446f69a57943dd28b2f98
CATEGORIES:Trail Running
DESCRIPTION:This field trip will focus on uphill and downhill running.
LOCATION:Cougar Mountain: Sky Country Trailhead
URL:https://www.mountaineers.org/locations-lodges/foothills-branch/committ
 ees/foothills-branch-trail-running-committee/course-templates/introduction
 -to-trail-running-frontcountry-foothills/activities/intro-to-trail-running
 -frontcountry-uphill-and-downhill-running-cougar-mountain-sky-country-trai
 lhead-3
END:VEVENT
END:VCALENDAR
