BEGIN:VCALENDAR
VERSION:2.0
PRODID:-//Plone.org//NONSGML plone.app.event//EN
X-WR-TIMEZONE:US/Pacific
BEGIN:VEVENT
SUMMARY:Intro to Trail Running: Frontcountry - Uphill and Downhill Running
  - Cougar Mountain: Sky Country Trailhead
DTSTART;VALUE=DATE:20250429
DTEND;VALUE=DATE:20250430
DTSTAMP;VALUE=DATE-TIME:20260421T012713Z
UID:6da8e010d90f49d0ac6c5746ec7977df
CATEGORIES:Trail Running
DESCRIPTION:This field trip will focus on uphill and downhill running.
LOCATION:Cougar Mountain: Sky Country Trailhead
URL:https://www.mountaineers.org/locations-lodges/foothills-branch/committ
 ees/foothills-branch-trail-running-committee/course-templates/introduction
 -to-trail-running-frontcountry-foothills/activities/intro-to-trail-running
 -frontcountry-uphill-and-downhill-running-cougar-mountain-sky-country-trai
 lhead-1
END:VEVENT
END:VCALENDAR
