BEGIN:VCALENDAR
VERSION:2.0
PRODID:-//Plone.org//NONSGML plone.app.event//EN
X-WR-TIMEZONE:US/Pacific
BEGIN:VEVENT
SUMMARY:Intro to Trail Running: Frontcountry - Uphill and Downhill Running
  - Cougar Mountain: Big Tree Ridge Trailhead
DTSTART;VALUE=DATE:20250506
DTEND;VALUE=DATE:20250507
DTSTAMP;VALUE=DATE-TIME:20260421T015120Z
UID:808e99fd88074f89aed3b4734edc95bd
CATEGORIES:Trail Running
DESCRIPTION:This field trip will focus on uphill and downhill running.
LOCATION:Cougar Mountain: Big Tree Ridge Trailhead
URL:https://www.mountaineers.org/locations-lodges/foothills-branch/committ
 ees/foothills-branch-trail-running-committee/course-templates/introduction
 -to-trail-running-frontcountry-foothills/activities/intro-to-trail-running
 -frontcountry-uphill-and-downhill-running-cougar-mountain-big-tree-ridge-t
 railhead-1
END:VEVENT
END:VCALENDAR
