BEGIN:VCALENDAR
VERSION:2.0
PRODID:-//Plone.org//NONSGML plone.app.event//EN
X-WR-TIMEZONE:US/Pacific
BEGIN:VEVENT
SUMMARY:Intro to Trail Running: Frontcountry - Trail and Group Etiquette -
  Redmond Watershed Preserve
DTSTART;VALUE=DATE:20260412
DTEND;VALUE=DATE:20260413
DTSTAMP;VALUE=DATE-TIME:20260421T012548Z
UID:07b6a3f1df4847fb8645c0e3d4fa435b
CATEGORIES:Trail Running
DESCRIPTION:This field trip will focus on trail and group etiquette for tr
 ail running.
LOCATION:Redmond Watershed Preserve
URL:https://www.mountaineers.org/locations-lodges/foothills-branch/committ
 ees/foothills-branch-trail-running-committee/course-templates/introduction
 -to-trail-running-frontcountry-foothills/activities/intro-to-trail-running
 -frontcountry-trail-and-group-etiquette-redmond-watershed-preserve
END:VEVENT
END:VCALENDAR
