BEGIN:VCALENDAR
VERSION:2.0
PRODID:-//Plone.org//NONSGML plone.app.event//EN
X-WR-TIMEZONE:US/Pacific
BEGIN:VEVENT
SUMMARY:Intro to Trail Running: Frontcountry - Trail and Group Etiquette -
  Grand Ridge Park (Snoqualmie)
DTSTART;VALUE=DATE:20240418
DTEND;VALUE=DATE:20240419
DTSTAMP;VALUE=DATE-TIME:20260423T023437Z
UID:bbe4f8792cc947bb912d1870d8f4a84b
CATEGORIES:Trail Running
DESCRIPTION:This will be a moderate trail run where we discuss the written
  and unwritten rules of trail running.
LOCATION:Grand Ridge Park (Snoqualmie)
URL:https://www.mountaineers.org/locations-lodges/foothills-branch/committ
 ees/foothills-branch-trail-running-committee/course-templates/introduction
 -to-trail-running-frontcountry-foothills/activities/intro-to-trail-running
 -frontcountry-trail-and-group-etiquette-grand-ridge-park-snoqualmie
END:VEVENT
END:VCALENDAR
