BEGIN:VCALENDAR
VERSION:2.0
PRODID:-//Plone.org//NONSGML plone.app.event//EN
X-WR-TIMEZONE:US/Pacific
BEGIN:VEVENT
SUMMARY:Intro to Trail Running: Frontcountry - Running on Technical Terrai
 n - Tiger Mountain Lowlands
DTSTART;VALUE=DATE:20240528
DTEND;VALUE=DATE:20240529
DTSTAMP;VALUE=DATE-TIME:20260421T020435Z
UID:da369f697497494497adb83120d775c4
CATEGORIES:Trail Running
DESCRIPTION:This field trip will focus on running skills for technical ter
 rain - Running on trails with rocks\, roots\, mud\, creeks\, etc.
LOCATION:Tiger Mountain Lowlands
URL:https://www.mountaineers.org/locations-lodges/foothills-branch/committ
 ees/foothills-branch-trail-running-committee/course-templates/introduction
 -to-trail-running-frontcountry-foothills/activities/intro-to-trail-running
 -frontcountry-running-on-technical-terrain-tiger-mountain-lowlands
END:VEVENT
END:VCALENDAR
