BEGIN:VCALENDAR
VERSION:2.0
PRODID:-//Plone.org//NONSGML plone.app.event//EN
X-WR-TIMEZONE:US/Pacific
BEGIN:VEVENT
SUMMARY:Intro to Trail Running: Frontcountry - Running on Technical Terrai
 n - Poo Poo Point via Chirico Trail
DTSTART;VALUE=DATE:20250521
DTEND;VALUE=DATE:20250522
DTSTAMP;VALUE=DATE-TIME:20260421T011954Z
UID:ab177ce4a6ed4f65a699cca5434f508e
CATEGORIES:Trail Running
DESCRIPTION:This field trip will focus on running skills for technical ter
 rain - Running on trails with rocks\, roots\, mud\, creeks\, etc.
LOCATION:Poo Poo Point via Chirico Trail
URL:https://www.mountaineers.org/locations-lodges/foothills-branch/committ
 ees/foothills-branch-trail-running-committee/course-templates/introduction
 -to-trail-running-frontcountry-foothills/activities/intro-to-trail-running
 -frontcountry-running-on-technical-terrain-poo-poo-point-via-chirico-trail
END:VEVENT
END:VCALENDAR
