BEGIN:VCALENDAR
VERSION:2.0
PRODID:-//Plone.org//NONSGML plone.app.event//EN
X-WR-TIMEZONE:US/Pacific
BEGIN:VEVENT
SUMMARY:Intro to Trail Running: Frontcountry - Running on Technical Terrai
 n - Poo Poo Point via Chirico Trail
DTSTART;VALUE=DATE:20250513
DTEND;VALUE=DATE:20250514
DTSTAMP;VALUE=DATE-TIME:20260421T012130Z
UID:c15934dbfb7a423286f5af8a189e6e80
CATEGORIES:Trail Running
DESCRIPTION:This field trip will focus on running skills for technical ter
 rain - Running on trails with rocks\, roots\, mud\, creeks\, etc.
LOCATION:Poo Poo Point via Chirico Trail
URL:https://www.mountaineers.org/locations-lodges/foothills-branch/committ
 ees/foothills-branch-trail-running-committee/course-templates/introduction
 -to-trail-running-frontcountry-foothills/activities/intro-to-trail-running
 -frontcountry-running-on-technical-terrain-poo-poo-point-via-chirico-trail
 -1
END:VEVENT
END:VCALENDAR
