BEGIN:VCALENDAR
VERSION:2.0
PRODID:-//Plone.org//NONSGML plone.app.event//EN
X-WR-TIMEZONE:US/Pacific
BEGIN:VEVENT
SUMMARY:Intro to Trail Running: Frontcountry - Running on Technical Terrai
 n - Cougar Mountain: Sky Country Trailhead
DTSTART;VALUE=DATE:20250522
DTEND;VALUE=DATE:20250523
DTSTAMP;VALUE=DATE-TIME:20260421T015130Z
UID:5edb0dba36dc423786fb245c560df63e
CATEGORIES:Trail Running
DESCRIPTION:This field trip will focus on running skills for technical ter
 rain - Running on trails with rocks\, roots\, mud\, creeks\, etc.
LOCATION:Cougar Mountain: Sky Country Trailhead
URL:https://www.mountaineers.org/locations-lodges/foothills-branch/committ
 ees/foothills-branch-trail-running-committee/course-templates/introduction
 -to-trail-running-frontcountry-foothills/activities/intro-to-trail-running
 -frontcountry-running-on-technical-terrain-cougar-mountain-sky-country-tra
 ilhead-1
END:VEVENT
END:VCALENDAR
