BEGIN:VCALENDAR
VERSION:2.0
PRODID:-//Plone.org//NONSGML plone.app.event//EN
X-WR-TIMEZONE:US/Pacific
BEGIN:VEVENT
SUMMARY:Intro to Trail Running: Frontcountry - Online Session - Online Cla
 ssroom
DTSTART;VALUE=DATE:20250407
DTEND;VALUE=DATE:20250408
DTSTAMP;VALUE=DATE-TIME:20260421T012016Z
UID:8b42579af4b746b585e2a23dbb92e613
CATEGORIES:Trail Running
DESCRIPTION:Online classroom session where we will discuss course overview
 \, trail running gear\, basic frontcountry trail navigation\, basic trail 
 running techniques and etiquette\, hydration and nutrition basics\, and tr
 ail running safety.
LOCATION:Online Classroom
URL:https://www.mountaineers.org/locations-lodges/foothills-branch/committ
 ees/foothills-branch-trail-running-committee/course-templates/introduction
 -to-trail-running-frontcountry-foothills/activities/intro-to-trail-running
 -frontcountry-online-session-online-classroom
END:VEVENT
END:VCALENDAR
