BEGIN:VCALENDAR
VERSION:2.0
PRODID:-//Plone.org//NONSGML plone.app.event//EN
X-WR-TIMEZONE:US/Pacific
BEGIN:VEVENT
SUMMARY:Intro to Trail Running: Frontcountry - Online Session - Online Cla
 ssroom
DTSTART;VALUE=DATE:20260402
DTEND;VALUE=DATE:20260403
DTSTAMP;VALUE=DATE-TIME:20260421T012154Z
UID:ed090fd6c5664a8187e1f1e97393a01d
CATEGORIES:Trail Running
DESCRIPTION:Online classroom session where we will discuss course overview
 \, trail running gear\, basic frontcountry trail navigation\, basic trail 
 running techniques and etiquette\, hydration and nutrition basics\, and tr
 ail running safety.
LOCATION:Online Classroom
URL:https://www.mountaineers.org/locations-lodges/foothills-branch/committ
 ees/foothills-branch-trail-running-committee/course-templates/introduction
 -to-trail-running-frontcountry-foothills/activities/intro-to-trail-running
 -frontcountry-online-session-online-classroom-1
END:VEVENT
END:VCALENDAR
