BEGIN:VCALENDAR
VERSION:2.0
PRODID:-//Plone.org//NONSGML plone.app.event//EN
X-WR-TIMEZONE:US/Pacific
BEGIN:VEVENT
SUMMARY:Intro to Frontcountry Trail Running - West Tiger Mountain No. 3
DTSTART;VALUE=DATE:20200528
DTEND;VALUE=DATE:20200529
DTSTAMP;VALUE=DATE-TIME:20260420T234658Z
UID:7ea08faeddcc4536b953ba39d5b21831
CATEGORIES:Trail Running
DESCRIPTION:Frontcountry trail run at West Tiger Mountain. Gently rolling 
 trails galore!
LOCATION:West Tiger Mountain No. 3
URL:https://www.mountaineers.org/locations-lodges/foothills-branch/committ
 ees/foothills-branch-trail-running-committee/course-templates/introduction
 -to-trail-running-frontcountry-foothills/activities/intro-to-frontcountry-
 trail-running-west-tiger-mountain-no-3
END:VEVENT
END:VCALENDAR
