BEGIN:VCALENDAR
VERSION:2.0
PRODID:-//Plone.org//NONSGML plone.app.event//EN
X-WR-TIMEZONE:US/Pacific
BEGIN:VEVENT
SUMMARY:Intro to Frontcountry Trail Running - The Arboretum\, Interlaken P
 ark & Volunteer Park
DTSTART;VALUE=DATE:20200604
DTEND;VALUE=DATE:20200605
DTSTAMP;VALUE=DATE-TIME:20260420T234705Z
UID:cbfbf86592af4b49918a945a78f1287c
CATEGORIES:Trail Running
DESCRIPTION:Learn and practice trail running skills at a local frontcountr
 y trail: UW Arboretum\, Interlaken Park
LOCATION:The Arboretum\, Interlaken Park & Volunteer Park
URL:https://www.mountaineers.org/locations-lodges/foothills-branch/committ
 ees/foothills-branch-trail-running-committee/course-templates/introduction
 -to-trail-running-frontcountry-foothills/activities/intro-to-frontcountry-
 trail-running-the-arboretum-interlaken-park-volunteer-park
END:VEVENT
END:VCALENDAR
