BEGIN:VCALENDAR
VERSION:2.0
PRODID:-//Plone.org//NONSGML plone.app.event//EN
X-WR-TIMEZONE:US/Pacific
BEGIN:VEVENT
SUMMARY:Intro to Frontcountry Trail Running - Squak Mountain: May Valley A
 ccess
DTSTART;VALUE=DATE:20220612
DTEND;VALUE=DATE:20220613
DTSTAMP;VALUE=DATE-TIME:20260421T011706Z
UID:15d0cd28ec994013a2fcc67afacf7899
CATEGORIES:Trail Running
DESCRIPTION:Learn and practice trail running skills at a local frontcountr
 y trail. Focus: navigating pre-set route.
LOCATION:Squak Mountain: May Valley Access
URL:https://www.mountaineers.org/locations-lodges/foothills-branch/committ
 ees/foothills-branch-trail-running-committee/course-templates/introduction
 -to-trail-running-frontcountry-foothills/activities/intro-to-frontcountry-
 trail-running-squak-mountain-may-valley-access-1
END:VEVENT
END:VCALENDAR
