BEGIN:VCALENDAR
VERSION:2.0
PRODID:-//Plone.org//NONSGML plone.app.event//EN
X-WR-TIMEZONE:US/Pacific
BEGIN:VEVENT
SUMMARY:Intro to Frontcountry Trail Running - Soaring Eagle Regional Park
DTSTART;VALUE=DATE:20230502
DTEND;VALUE=DATE:20230503
DTSTAMP;VALUE=DATE-TIME:20260421T011604Z
UID:06c24e441ac04f468b667722d3dba550
CATEGORIES:Trail Running
DESCRIPTION:Learn and practice trail running skills at a local frontcountr
 y trail.
LOCATION:Soaring Eagle Regional Park
URL:https://www.mountaineers.org/locations-lodges/foothills-branch/committ
 ees/foothills-branch-trail-running-committee/course-templates/introduction
 -to-trail-running-frontcountry-foothills/activities/intro-to-frontcountry-
 trail-running-soaring-eagle-regional-park
END:VEVENT
END:VCALENDAR
